Workbook

Sheet Cover Sheet
A7: KENTUCKY
A9: 2026 CAPITALIZATION RATE STUDY
A16: =+'S&D'!A12 -> Railroad Carriers
A34: #VALUE!

Sheet Yield CapRate
A1: KENTUCKY DEPARTMENT OF REVENUE
A2: DIVISION OF STATE VALUATION, PUBLIC SERVICE BRANCH
A3: 2026 Tax Year
D10: YIELD CAPITALIZATION RATE CONCLUSION
D16: =+'S&D'!A12 -> Railroad Carriers
B19: Source of | C19: Capital | D19: Cost of Capital | E19: Marginal | F19: Cost of Capital | G19: Weighted
B20: Capital | C20: Structure | D20: Rate | E20: Tax Rate | F20: After Tax | G20: Cost
B23: EQUITY | C23: ='S&D'!J46 -> 0.82 | D23: =+'Indicated Yield Equity Rate '!D52 -> 0.0969 | F23: =+D23 -> 0.0969 | G23: =+F23*C23 -> 0.079458
B25: DEBT | C25: ='S&D'!K46 -> 0.18 | D25: =+Debt!J27 -> 0.0574 | E25: 0.26 | F25: =+D25*(1-E25) -> 0.042476 | G25: =+C25*F25 -> 0.00764568
B27: WACC | C27: =+C23+C25 -> 1 | G27: =+G23+G25 -> 0.08710368
F29: Selected | G29: 0.0871
G30: .

Sheet Direct CapRates
A1: KENTUCKY DEPARTMENT OF REVENUE
A2: DIVISION OF STATE VALUATION, PUBLIC SERVICE BRANCH
A3: 2026 Tax Year
D11: DIRECT CAPITALIZATION RATE CONCLUSION
D15: =+'S&D'!A12 -> Railroad Carriers
D16: NOI After Tax (NOPAT)
B19: Source of | C19: Capital | D19: Capitalization | E19: Marginal | F19: Capitalization Rate | G19: Weighted
B20: Capital | C20: Structure | D20: Rate | E20: Tax Rate | F20: After Tax | G20: CAP RATE
B23: EQUITY | C23: ='S&D'!J46 -> 0.82 | D23: =+'Direct NOPAT'!J31 -> 0.0551 | E23: - | F23: =+D23 -> 0.0551 | G23: =+F23*C23 -> 0.045182
B25: DEBT | C25: ='S&D'!K46 -> 0.18 | D25: =+Debt!J27 -> 0.0574 | E25: 0.26 | F25: =+D25*(1-E25) -> 0.042476 | G25: =+C25*F25 -> 0.00764568
B27: TOTAL | C27: =+C23+C25 -> 1 | G27: =+G23+G25 -> 0.05282768
F29: Selected | G29: 0.0528
F31: Multiplier | G31: =1/G29 -> 18.939394
A34: KENTUCKY DEPARTMENT OF REVENUE
A35: DIVISION OF STATE VALUATION, PUBLIC SERVICE BRANCH
A36: 2026 Tax Year
D44: DIRECT CAPITALIZATION RATE CONCLUSION
D48: =+D15 -> Railroad Carriers
D49: GCF After Tax
B52: Source of | C52: Capital | D52: Capitalization | E52: Marginal | F52: Capitalization Rate | G52: Weighted
B53: Capital | C53: Structure | D53: Rate | E53: Tax Rate | F53: After Tax | G53: CAP RATE
B56: EQUITY | C56: ='S&D'!J46 -> 0.82 | D56: =+'Direct GCF'!H30 -> 0.0795 | F56: =+D56 -> 0.0795 | G56: =+F56*C56 -> 0.06519
B58: DEBT | C58: ='S&D'!K46 -> 0.18 | D58: =+Debt!J27 -> 0.0574 | E58: 0.26 | F58: =+D58*(1-E58) -> 0.042476 | G58: =+C58*F58 -> 0.00764568
B60: TOTAL | C60: =+C56+C58 -> 1 | G60: =+G56+G58 -> 0.07283568
F62: Selected | G62: 0.0728
F64: Multiplier | G64: =1/G62 -> 13.736264

Sheet S&D
A1: KENTUCKY DEPARTMENT OF REVENUE
A2: DIVISION OF STATE VALUATION, PUBLIC SERVICE BRANCH
A3: 2026 Tax Year
A7: US Dollar to Canadian Dollar Exchange Rate = 1.3725 | D7: =1-0.3725 -> 0.6275
A12: Railroad Carriers | F12: CAPITAL STRUCTURE
F13: YEAR END 12/31/2025
D16: 4th Qtr | E16: 4th Qtr | F16: 4th Qtr | G16: Year End | H16: Dec. 31, 2025 | I16: Dec. 31, 2025 | J16: Dec. 31, 2025
B17: Ticker | C17: Industry | D17: Stock Price | E17: Stock Price | F17: Average | G17: Dec. 31, 2025 | H17: Common Stock | I17: Preferred Stock | J17: Long Term Debt **
A18: Company | B18: Symbol | C18: Group | D18: High | E18: Low | F18: Stock Price | G18: Stock Price | H18: Shares Outstanding * | I18: General Partner Units | J18: plus Finance Leases
H19: Shares Issued less Treasury | I19: Book Value | J19: Book Value
A20: VL | B20: VL | C20: VL | D20: VL | E20: VL | F20: Calculated | G20: VL | H20: 10K / SEC | I20: 10K / SEC | J20: 10K / SEC
A22: Canadian National | B22: CNI | C22: Railroad | D22: 100.66 | E22: 90.74 | F22: =AVERAGE(D22,E22) -> 95.7 | G22: 98.85 | H22: 613300000 | I22: 0 | J22: =(20300000000+906000000)*0.6275 -> 1.3306765e+10
A23: Canadian Pacific Kansas City Limited CPKC | B23: CP | C23: Railroad | D23: 78.49 | E23: 68.42 | F23: =AVERAGE(D23,E23) -> 73.455 | G23: 73.63 | H23: 897600000 | J23: =19948000000+3240000000 -> 23188000000
A24: CSX Corp | B24: CSX | C24: Railroad | D24: 37.54 | E24: 33.63 | F24: =AVERAGE(D24,E24) -> 35.585 | G24: 36.25 | H24: 1860000000 | J24: =708000000+18165000000 -> 18873000000
A25: Norfolk Southern | B25: NSC | C25: Railroad | D25: 301.53 | E25: 278.41 | F25: =AVERAGE(D25,E25) -> 289.97 | G25: 288.72 | H25: 224420699 | J25: =607000000+16480000000 -> 17087000000
A26: Union Pacific Railroad | B26: UNP | C26: Railroad | D26: 241.52 | E26: 215.53 | F26: =AVERAGE(D26,E26) -> 228.525 | G26: 231.32 | H26: 593245884 | J26: =1520000000+30294000000 -> 31814000000
A28: Canadian Conversion Rate = .73 US Dollars
D30: Dec. 31, 2025 | E30: Dec. 31, 2025 | F30: Dec. 31, 2025 | G30: Dec. 31, 2023 | H30: Dec. 31, 2025 | I30: Dec. 31, 2025 | J30: Dec. 31, 2025 | K30: Dec. 31, 2025
B31: Ticker | C31: Industry | D31: Common Stock | E31: Preferred Stock *** | F31: Operating Leases **** | G31: Variable Op Leases ***** | H31: Long Term Debt | I31: Total Market Value | J31: % Common Stock | K31: % LT Debt & Pref Stock
A32: Company | B32: Symbol | C32: Group | D32: FMV | E32: FMV | F32: FMV / PV | G32: FMV / PV | H32: FMV | I32: CS+PS+OL+VL+LTD | K32: & Op Leases
A33: VL | B33: VL | C33: VL | D33: Calculated | E33: 10K / SEC | F33: 10K / SEC | G33: 10K / SEC | H33: 10K / SEC | I33: Calculated | J33: Calculated | K33: Calculated
A35: =+A22 -> Canadian National | B35: =+B22 -> CNI | C35: =+C22 -> Railroad | D35: =(+H22)*G22 -> 60624705000 | E35: =(1/1)*I22 -> 0 | F35: =316000000*0.6275 -> 1.9829e+08 | H35: =(20246000000/21201000000*J22)*0.6275 -> 7.9738691e+09 | I35: =+D35+E35+F35+G35+H35 -> 6.8796864e+10 | J35: =(+D35)/I35 -> 0.8812132 | K35: =(+E35+F35+G35+H35)/I35 -> 0.1187868
A36: =+A23 -> Canadian Pacific Kansas City Limited CPKC | B36: =+B23 -> CP | C36: =+C23 -> Railroad | D36: =(+H23)*G23 -> 6.6090288e+10 | E36: =(1/1)*I23 -> 0 | F36: =111000000*0.6275 -> 69652500 | H36: =(20740/22023*J23)*0.6275 -> 1.3702799e+10 | I36: =+D36+E36+F36+G36+H36 -> 7.986274e+10 | J36: =(+D36)/I36 -> 0.82754847 | K36: =(+E36+F36+G36+H36)/I36 -> 0.17245153
A37: =+A24 -> CSX Corp | B37: =+B24 -> CSX | C37: =+C24 -> Railroad | D37: =(+H24)*G24 -> 67425000000 | E37: =(1/1)*I24 -> 0 | F37: =546000000 -> 546000000 | H37: =(18873/17305)*J24 -> 2.0583076e+10 | I37: =+D37+E37+F37+G37+H37 -> 8.8554076e+10 | J37: =(+D37)/I37 -> 0.76139917 | K37: =(+E37+F37+G37+H37)/I37 -> 0.23860083
A38: =+A25 -> Norfolk Southern | B38: =+B25 -> NSC | C38: =+C25 -> Railroad | D38: =(+H25)*G25 -> 6.4794744e+10 | E38: =(1/1)*I25 -> 0 | F38: 218000000 | H38: =(17087/15865)*J25 -> 1.8403124e+10 | I38: =+D38+E38+F38+G38+H38 -> 8.3415869e+10 | J38: =(+D38)/I38 -> 0.7767676 | K38: =(+E38+F38+G38+H38)/I38 -> 0.2232324
A39: =+A26 -> Union Pacific Railroad | B39: =+B26 -> UNP | C39: =+C26 -> Railroad | D39: =(+H26)*G26 -> 1.3722964e+11 | E39: =(1/1)*I26 -> 0 | F39: 1008000000 | H39: =(21.2/25.3)*J26 -> 2.6658372e+10 | I39: =+D39+E39+F39+G39+H39 -> 1.6489601e+11 | J39: =(+D39)/I39 -> 0.83221928 | K39: =(+E39+F39+G39+H39)/I39 -> 0.16778072
I41: High | J41: =MAX(J35:J39) -> 0.8812132 | K41: =MAX(K35:K39) -> 0.23860083
I42: Low | J42: =MIN(J35:J39) -> 0.76139917 | K42: =MIN(K35:K39) -> 0.1187868
I43: Median | J43: =MEDIAN(J35:J39) -> 0.82754847 | K43: =MEDIAN(K35:K39) -> 0.17245153
I44: Mean | J44: =AVERAGE(J35:J39) -> 0.81582954 | K44: =AVERAGE(K35:K39) -> 0.18417046
I46: Selected > | J46: 0.82 | K46: 0.18
A50: Notes:
A51: The capital structure of this industry is a representative or typical capital structure of the group, not that of the present owner. The capital structure selected reflects the most likely arrangement of a prospective buyer.
A52: * Outstanding stock shares are generally already net of Treasury stock shares
A53: ** Debt includes LT Debt , Current portion of LT Debt from 10K
A54: *** Market value of preferred stock assumed to equal book value
A55: **** Market value of operating leases for all companies.
A56: ***** Market value of variable operating leases for all companies. Variable leases are not generally included in the ROU liability figure shown on the balance sheet.
A58: Canadian Conversion 12/31/2025 = 0.6948
A60: Norfolk Southern and Union Pacific are undergoing an $85 billion merger to create the first coast-to-coast freight rail operator in the U.S. While shareholders approved the deal, the Surface Transportation Board paused its review in May 2026 to demand supplemental data, with a decision now anticipated in mid-2027
...

Sheet Market to Book Ratios
A1: KENTUCKY DEPARTMENT OF REVENUE
A2: DIVISION OF STATE VALUATION, PUBLIC SERVICE BRANCH
A3: 2026 Tax Year
A9: =+'S&D'!A12 -> Railroad Carriers | E9: Market to Book Ratios - Obsolescence Measurement
E10: YEAR END 12/31/2025
B17: Ticker | C17: Industry | F17: Market to
B18: Symbol | C18: Group | D18: Common Total Equity | E18: Common Total Equity | F18: Book Ratio
A19: Company | D19: Market Value | E19: Book Value
A20: VL | B20: VL | C20: VL | D20: VL | E20: 10K
A22: =+'S&D'!A22 -> Canadian National | B22: =+'S&D'!B22 -> CNI | C22: =+'S&D'!C22 -> Railroad | D22: =+'S&D'!D35 -> 60624705000 | E22: =21568000000*0.6275 -> 1.353392e+10 | F22: =+D22/E22 -> 4.4794638
A23: =+'S&D'!A23 -> Canadian Pacific Kansas City Limited CPKC | B23: =+'S&D'!B23 -> CP | C23: =+'S&D'!C23 -> Railroad | D23: =+'S&D'!D36 -> 6.6090288e+10 | E23: =45877000000*0.6275 -> 2.8787817e+10 | F23: =+D23/E23 -> 2.2957728
A24: =+'S&D'!A24 -> CSX Corp | B24: =+'S&D'!B24 -> CSX | C24: =+'S&D'!C24 -> Railroad | D24: =+'S&D'!D37 -> 67425000000 | E24: =13160000000-5000000 -> 13155000000 | F24: =+D24/E24 -> 5.1254276
A25: =+'S&D'!A25 -> Norfolk Southern | B25: =+'S&D'!B25 -> NSC | C25: =+'S&D'!C25 -> Railroad | D25: =+'S&D'!D38 -> 6.4794744e+10 | E25: 15547000000 | F25: =+D25/E25 -> 4.1676686
A26: =+'S&D'!A26 -> Union Pacific Railroad | B26: =+'S&D'!B26 -> UNP | C26: =+'S&D'!C26 -> Railroad | D26: =+'S&D'!D39 -> 1.3722964e+11 | E26: 18467000000 | F26: =+D26/E26 -> 7.4310737
E27: AVERAGE | F27: =AVERAGE(F22:F26) -> 4.6998813
B33: Ticker | C33: Industry | F33: Market to
B34: Symbol | C34: Group | D34: Long Term Debt | E34: Long Term Debt | F34: Book Ratio
A35: Company | D35: Market Value | E35: Book Value
A36: VL | B36: VL | C36: VL | D36: 10K | E36: 10K
A38: =+A22 -> Canadian National | B38: =+B22 -> CNI | C38: =+C22 -> Railroad | D38: =+'S&D'!H35 -> 7.9738691e+09 | E38: =+'S&D'!J22 -> 1.3306765e+10 | F38: =+D38/E38 -> 0.59923423
A39: =+A23 -> Canadian Pacific Kansas City Limited CPKC | B39: =+B23 -> CP | C39: =+C23 -> Railroad | D39: =+'S&D'!H36 -> 1.3702799e+10 | E39: =+'S&D'!J23 -> 23188000000 | F39: =+D39/E39 -> 0.59094356
A40: =+A24 -> CSX Corp | B40: =+B24 -> CSX | C40: =+C24 -> Railroad | D40: =+'S&D'!H37 -> 2.0583076e+10 | E40: =+'S&D'!J24 -> 18873000000 | F40: =+D40/E40 -> 1.0906097
A41: =+A25 -> Norfolk Southern | B41: =+B25 -> NSC | C41: =+C25 -> Railroad | D41: =+'S&D'!H38 -> 1.8403124e+10 | E41: =+'S&D'!J25 -> 17087000000 | F41: =+D41/E41 -> 1.0770249
A42: =+A26 -> Union Pacific Railroad | B42: =+B26 -> UNP | C42: =+C26 -> Railroad | D42: =+'S&D'!H39 -> 2.6658372e+10 | E42: =+'S&D'!J26 -> 31814000000 | F42: =+D42/E42 -> 0.83794466
E43: AVERAGE | F43: =AVERAGE(F38:F42) -> 0.8391514
C48: Capital | D48: Market
C49: Structure | D49: to Book | E49: Composite
A50: EQUITY | C50: =+'Yield CapRate'!C23 -> 0.82 | D50: =+F27 -> 4.6998813 | E50: =+C50*D50 -> 3.8539027
A51: DEBT | B51: ='S&D'!J32 | C51: =+'Yield CapRate'!C25 -> 0.18 | D51: =+F43 -> 0.8391514 | E51: =+C51*D51 -> 0.15104725
D52: Total | E52: =+E50+E51 -> 4.0049499
A55: A market to book ratio over one would be an indication of no obsolescence.
A56: Common Total Equity excludes 'noncontrolling interests' equity value.

Sheet Maintenance CapEx
A1: KENTUCKY DEPARTMENT OF REVENUE
A2: DIVISION OF STATE VALUATION, PUBLIC SERVICE BRANCH
A3: 2026 Tax Year
A8: =+'S&D'!A12 -> Railroad Carriers | G8: Maintenance Capital Expenditures
G9: Estimate using Guideline Companies
G10: YEAR END 12/31/2025
A14: A | B14: B | C14: C | D14: D | E14: E | F14: F | G14: G | H14: H | I14: I | J14: J | K14: K | L14: L
B15: Ticker | C15: Inflation | D15: PP&E Gross | E15: PP&E Gross | F15: PP&E | G15: Depreciation | H15: Average Life of | I15: * | J15: * | K15: Replacement | L15: RC as % of
A16: Company | B16: Symbol | C16: Rate % | D16: Current Year | E16: Previous Year | F16: Average | G16: Expense | H16: Assets | K16: Cost | L16: Depreciation
A17: VL | B17: VL | C17: CPI | D17: 10K Balance Sheet | E17: 10K Balance Sheet | F17: (D+E)/2 | G17: 10K Income Statement | H17: F/G | I17: C*H | J17: 1/(1=C)^H | K17: (G*I) / (1-J) | L17: K/G
A20: =+'S&D'!A22 -> Canadian National | B20: =+'S&D'!B22 -> CNI | C20: =+'Growth & Inflation Rates'!$D$56 -> 0.0228 | D20: =67667000000*0.6275 -> 42461042500 | E20: =66922000000*0.6948 -> 46497405600 | F20: =(D20+E20)/2 -> 44479224050 | G20: =1938000000*0.6275 -> 1216095000 | H20: =+F20/G20 -> 36.575452 | I20: =+C20*H20 -> 0.8339203 | J20: =1/(1+C20)^H20 -> 0.43842975 | K20: =(G20*I20)/(1-J20) -> 1.8058761e+09 | L20: =+K20/G20 -> 1.4849795
A21: =+'S&D'!A23 -> Canadian Pacific Kansas City Limited CPKC | B21: =+'S&D'!B23 -> CP | C21: =+'Growth & Inflation Rates'!$D$56 -> 0.0228 | D21: =67648000000*0.6275 -> 42449120000 | E21: =67489000000*0.6948 -> 46891357200 | F21: =(D21+E21)/2 -> 44670238600 | G21: =2019000000*0.6275 -> 1266922500 | H21: =+F21/G21 -> 35.258856 | I21: =+C21*H21 -> 0.80390193 | J21: =1/(1+C21)^H21 -> 0.45163795 | K21: =(G21*I21)/(1-J21) -> 1.8573157e+09 | L21: =+K21/G21 -> 1.4660058
A22: =+'S&D'!A24 -> CSX Corp | B22: =+'S&D'!B24 -> CSX | C22: =+'Growth & Inflation Rates'!$D$56 -> 0.0228 | D22: 62191000000 | E22: 52191000000 | F22: =(D22+E22)/2 -> 57191000000 | G22: 1680000000 | H22: =+F22/G22 -> 34.042262 | I22: =+C22*H22 -> 0.77616357 | J22: =1/(1+C22)^H22 -> 0.4641964 | K22: =(G22*I22)/(1-J22) -> 2.4336432e+09 | L22: =+K22/G22 -> 1.4485972
A23: =+'S&D'!A25 -> Norfolk Southern | B23: =+'S&D'!B25 -> NSC | C23: =+'Growth & Inflation Rates'!$D$56 -> 0.0228 | D23: =36479000000+14617000000 -> 51096000000 | E23: 49788000000 | F23: =(D23+E23)/2 -> 50442000000 | G23: 1393000000 | H23: =+F23/G23 -> 36.211055 | I23: =+C23*H23 -> 0.82561206 | J23: =1/(1+C23)^H23 -> 0.44204626 | K23: =(G23*I23)/(1-J23) -> 2.0612419e+09 | L23: =+K23/G23 -> 1.4797142
A24: =+'S&D'!A26 -> Union Pacific Railroad | B24: =+'S&D'!B26 -> UNP | C24: =+'Growth & Inflation Rates'!$D$56 -> 0.0228 | D24: 83840000000 | E24: 83840000000 | F24: =(D24+E24)/2 -> 83840000000 | G24: 2465000000 | H24: =+F24/G24 -> 34.01217 | I24: =+C24*H24 -> 0.77547748 | J24: =1/(1+C24)^H24 -> 0.46451141 | K24: =(G24*I24)/(1-J24) -> 3.5697343e+09 | L24: =+K24/G24 -> 1.4481681
K26: High | L26: =MAX(L20:L24) -> 1.4849795
K27: Low | L27: =MIN(L20:L24) -> 1.4481681
K28: Median | L28: =MEDIAN(L20:L24) -> 1.4660058
K29: Mean | L29: =AVERAGE(L20:L24) -> 1.4654929
K31: Selected > | L31: 1.4655
A34: Notes:
A35: *Cornell, B. & Gerger, R. (2017) Estimating Terminal Values with Inflation : The Inputs Matter - It is Not a Formulaic Exercise. Business Valuation Review, Vol.36, Number 4, 117-123.
A37: Property, Plant & Equipment includes CWIP, but should exclude intangibles and the associated amortization.
A39: KENTUCKY DEPARTMENT OF REVENUE
A40: DIVISION OF STATE VALUATION, PUBLIC SERVICE BRANCH
A41: 2026 Tax Year
A46: Industry > Electric Companies | G46: Maintenance Capital Expenditures and Change in Working Capital
G47: YEAR END 12/31/2025
A52: g = b X ROE | C52: The plowback ratio is multiplied by Net Cash Flow to estimate the amount of additional capital expenditures needed to achieve projected results.
A53: b = g / ROE | C53: It is assumed that the ROE is a fixed (unchanging) rate.
A54: g = LT growth rate
A55: b = reinvestment rate
A56: ROE = Return on equity (or return on investment)
A62: Aswath Damodaran's model to determine the Reinvesment Rate >
A64: Reinvestment Rate = | D64: Capital Expenditures - Depreciation + Change in Working Capital
D65: EBIT (1-Tax Rate)

Sheet Beta for CAPM
A1: KENTUCKY DEPARTMENT OF REVENUE
A2: DIVISION OF STATE VALUATION, PUBLIC SERVICE BRANCH
A3: 2026 Tax Year
A8: =+'S&D'!A12 -> Railroad Carriers
E9: BETA SELECTION for CAPM
E10: YEAR END 12/31/2025
B13: Ticker | C13: Industry | D13: Actual | E13: Return on | F13: Retained to | G13: Financial | H13: Levered Beta
A14: Company | B14: Symbol | C14: Group | D14: Tax Rate | E14: Shareholders Equity | F14: Common Equity | G14: Strength | H14: Current
A15: VL | B15: VL | C15: VL | D15: VL | E15: Vl Projected 2026 | F15: Vl Projected 2026 | G15: VL | H15: Vl Projected 2026
A18: =+'S&D'!A22 -> Canadian National | B18: =+'S&D'!B22 -> CNI | C18: =+'S&D'!C22 -> Railroad | D18: 0.25 | E18: 0.225 | F18: 0.12 | G18: A+ | H18: 0.9
A19: =+'S&D'!A23 -> Canadian Pacific Kansas City Limited CPKC | B19: =+'S&D'!B23 -> CP | C19: =+'S&D'!C23 -> Railroad | D19: 0.25 | E19: 0.1 | F19: 0.075 | G19: A | H19: 0.95
A20: =+'S&D'!A24 -> CSX Corp | B20: =+'S&D'!B24 -> CSX | C20: =+'S&D'!C24 -> Railroad | D20: 0.23 | E20: 0.265 | F20: 0.175 | G20: A | H20: 0.95
A21: =+'S&D'!A25 -> Norfolk Southern | B21: =+'S&D'!B25 -> NSC | C21: =+'S&D'!C25 -> Railroad | D21: 0.22 | E21: 0.16 | F21: 0.09 | G21: A | H21: 1
A22: =+'S&D'!A26 -> Union Pacific Railroad | B22: =+'S&D'!B26 -> UNP | C22: =+'S&D'!C26 -> Railroad | D22: 0.24 | E22: 0.325 | F22: 0.18 | G22: A+ | H22: 0.95
G23: High | H23: =+MAX(H18:H22) -> 1
G24: Low | H24: =MIN(H18:H22) -> 0.9
G25: Median | H25: =MEDIAN(H18:H22) -> 0.95
G26: Mean | H26: =AVERAGE(H18:H22) -> 0.95
G29: Selected | H29: 0.95
A32: Return on Shareholders Equity -- Annual net profit divided by year-end shareholders equity, expressed as a percentage.
A33: Retained to Common Equity -- Net profit less all common and preferred dividends divided by common equity including intangible assets, expressed as a percentage. Also known as the plowback ratio.

Sheet Dividends 
A1: KENTUCKY DEPARTMENT OF REVENUE
A2: DIVISION OF STATE VALUATION, PUBLIC SERVICE BRANCH
A3: 2026 Tax Year
A6: ='S&D'!A12 -> Railroad Carriers
E7: Dividend Data
E8: YEAR END 12/31/2025
B10: Ticker | C10: Industry | D10: Stock | E10: Dividends | F10: Dividend | G10: Dividends | H10: Dividend | I10: Dividends | J10: Dividend | K10: Short Term
B11: Symbol | C11: Group | D11: Price | E11: Per Share | F11: Yield | G11: Per Share | H11: Yield | I11: Per Share | J11: Yield | K11: Growth Rate
A12: Company | E12: Historic | F12: Historic | G12: 1 Yr Projected | H12: 1 Yr Projected | I12: 3-5 Yr Projected | J12: 3-5 Yr Projected | K12: (1)
A13: VL | B13: VL | C13: VL | D13: Year End | E13: VL | F13: Calculated | G13: VL | H13: Calculated | I13: VL | J13: Calculated | K13: Calculated
A16: =+'S&D'!A22 -> Canadian National | B16: =+'S&D'!B22 -> CNI | C16: =+'S&D'!C22 -> Railroad | D16: =+'S&D'!G22 -> 98.85 | E16: 2.76 | F16: =+E16/D16 -> 0.027921093 | G16: 2.84 | H16: =+G16/D16 -> 0.0287304 | I16: 3.4 | J16: =+I16/D16 -> 0.034395549 | K16: =RATE(3,,-G16,I16) -> 0.061826416
A17: =+'S&D'!A23 -> Canadian Pacific Kansas City Limited CPKC | B17: =+'S&D'!B23 -> CP | C17: =+'S&D'!C23 -> Railroad | D17: =+'S&D'!G23 -> 73.63 | E17: 0.7 | F17: =+E17/D17 -> 0.0095069944 | G17: 0.75 | H17: =+G17/D17 -> 0.010186065 | I17: 1 | J17: =+I17/D17 -> 0.013581421 | K17: =RATE(3,,-G17,I17) -> 0.10064242
A18: =+'S&D'!A24 -> CSX Corp | B18: =+'S&D'!B24 -> CSX | C18: =+'S&D'!C24 -> Railroad | D18: =+'S&D'!G24 -> 36.25 | E18: 0.6 | F18: =+E18/D18 -> 0.016551724 | G18: 0.64 | H18: =+G18/D18 -> 0.017655172 | I18: 0.88 | J18: =+I18/D18 -> 0.024275862 | K18: =RATE(3,,-G18,I18) -> 0.11199005
A19: =+'S&D'!A25 -> Norfolk Southern | B19: =+'S&D'!B25 -> NSC | C19: =+'S&D'!C25 -> Railroad | D19: =+'S&D'!G25 -> 288.72 | E19: 5.4 | F19: =+E19/D19 -> 0.018703242 | G19: 5.4 | H19: =+G19/D19 -> 0.018703242 | I19: 6 | J19: =+I19/D19 -> 0.02078138 | K19: =RATE(3,,-G19,I19) -> 0.035744169
A20: =+'S&D'!A26 -> Union Pacific Railroad | B20: =+'S&D'!B26 -> UNP | C20: =+'S&D'!C26 -> Railroad | D20: =+'S&D'!G26 -> 231.32 | E20: 5.6 | F20: =+E20/D20 -> 0.024208888 | G20: 6 | H20: =+G20/D20 -> 0.025938094 | I20: 7.5 | J20: =+I20/D20 -> 0.032422618 | K20: =RATE(3,,-G20,I20) -> 0.077217345
D22: High | E22: =MAX(E16:E20) -> 5.6 | F22: =MAX(F16:F20) -> 0.027921093 | G22: =MAX(G16:G20) -> 6 | H22: =MAX(H16:H20) -> 0.0287304 | I22: =MAX(I16:I20) -> 7.5 | J22: =MAX(J16:J20) -> 0.034395549 | K22: =MAX(K16:K20) -> 0.11199005
D23: Low | E23: =MIN(E16:E20) -> 0.6 | F23: =MIN(F16:F20) -> 0.0095069944 | G23: =MIN(G16:G20) -> 0.64 | H23: =MIN(H16:H20) -> 0.010186065 | I23: =MIN(I16:I20) -> 0.88 | J23: =MIN(J16:J20) -> 0.013581421 | K23: =MIN(K16:K20) -> 0.035744169
D24: Median | E24: =MEDIAN(E16:E20) -> 2.76 | F24: =MEDIAN(F16:F20) -> 0.018703242 | G24: =MEDIAN(G16:G20) -> 2.84 | H24: =MEDIAN(H16:H20) -> 0.018703242 | I24: =MEDIAN(I16:I20) -> 3.4 | J24: =MEDIAN(J16:J20) -> 0.024275862 | K24: =MEDIAN(K16:K20) -> 0.077217345
D25: Mean | E25: =AVERAGE(E16:E20) -> 3.012 | F25: =AVERAGE(F16:F20) -> 0.019378388 | G25: =AVERAGE(G16:G20) -> 3.126 | H25: =AVERAGE(H16:H20) -> 0.020242595 | I25: =AVERAGE(I16:I20) -> 3.756 | J25: =AVERAGE(J16:J20) -> 0.025091366 | K25: =AVERAGE(K16:K20) -> 0.077484078
A28: (1) 4 Year compound annual growth rate (CAGR) - 3 periods

Sheet Earnings
A1: KENTUCKY DEPARTMENT OF REVENUE
A2: DIVISION OF STATE VALUATION, PUBLIC SERVICE BRANCH
A3: 2026 Tax Year
A6: =+'S&D'!A12 -> Railroad Carriers
E7: Earnings Data
E8: YEAR END 12/31/2025
B10: Ticker | C10: Industry | D10: Stock | E10: Earnings | F10: Earnings | G10: Earnings | H10: Earnings | I10: Earnings | J10: Earnings | K10: Short Term
B11: Symbol | C11: Group | D11: Price | E11: Per Share | F11: Yield | G11: Per Share | H11: Yield | I11: Per Share | J11: Yield | K11: Growth Rate
A12: Company | E12: Historic | F12: Historic | G12: 1 Yr Projected | H12: 1 Yr Projected | I12: 3-5 Yr Projected | J12: 3-5 Yr Projected | K12: (1)
A13: VL | B13: VL | C13: VL | D13: Year End | E13: VL | F13: Calculated | G13: VL | H13: Calculated | I13: VL | J13: Calculated | K13: Calculated
A16: =+'S&D'!A22 -> Canadian National | B16: =+'S&D'!B22 -> CNI | C16: =+'S&D'!C22 -> Railroad | D16: =+'S&D'!G22 -> 98.85 | E16: 6 | F16: =+E16/D16 -> 0.060698027 | G16: 6.5 | H16: =+G16/D16 -> 0.065756196 | I16: 8.5 | J16: =+I16/D16 -> 0.085988872 | K16: =RATE(3,,-G16,I16) -> 0.0935413
A17: =+'S&D'!A23 -> Canadian Pacific Kansas City Limited CPKC | B17: =+'S&D'!B23 -> CP | C17: =+'S&D'!C23 -> Railroad | D17: =+'S&D'!G23 -> 73.63 | E17: 3.9 | F17: =+E17/D17 -> 0.05296754 | G17: 4.4 | H17: =+G17/D17 -> 0.059758251 | I17: 5.6 | J17: =+I17/D17 -> 0.076055955 | K17: =RATE(3,,-G17,I17) -> 0.083706763
A18: =+'S&D'!A24 -> CSX Corp | B18: =+'S&D'!B24 -> CSX | C18: =+'S&D'!C24 -> Railroad | D18: =+'S&D'!G24 -> 36.25 | E18: 1.85 | F18: =+E18/D18 -> 0.051034483 | G18: 2.1 | H18: =+G18/D18 -> 0.057931034 | I18: 2.75 | J18: =+I18/D18 -> 0.075862069 | K18: =RATE(3,,-G18,I18) -> 0.094051585
A19: =+'S&D'!A25 -> Norfolk Southern | B19: =+'S&D'!B25 -> NSC | C19: =+'S&D'!C25 -> Railroad | D19: =+'S&D'!G25 -> 288.72 | E19: 12.4 | F19: =+E19/D19 -> 0.042948185 | G19: 13.7 | H19: =+G19/D19 -> 0.047450817 | I19: 18 | J19: =+I19/D19 -> 0.06234414 | K19: =RATE(3,,-G19,I19) -> 0.095260216
A20: =+'S&D'!A26 -> Union Pacific Railroad | B20: =+'S&D'!B26 -> UNP | C20: =+'S&D'!C26 -> Railroad | D20: =+'S&D'!G26 -> 231.32 | E20: 12.4 | F20: =+E20/D20 -> 0.053605395 | G20: 13.6 | H20: =+G20/D20 -> 0.058793014 | I20: 17 | J20: =+I20/D20 -> 0.073491268 | K20: =RATE(3,,-G20,I20) -> 0.077217345
D22: High | E22: =MAX(E16:E20) -> 12.4 | F22: =MAX(F16:F20) -> 0.060698027 | G22: =MAX(G16:G20) -> 13.7 | H22: =MAX(H16:H20) -> 0.065756196 | I22: =MAX(I16:I20) -> 18 | J22: =MAX(J16:J20) -> 0.085988872 | K22: =MAX(K16:K20) -> 0.095260216
D23: Low | E23: =MIN(E16:E20) -> 1.85 | F23: =MIN(F16:F20) -> 0.042948185 | G23: =MIN(G16:G20) -> 2.1 | H23: =MIN(H16:H20) -> 0.047450817 | I23: =MIN(I16:I20) -> 2.75 | J23: =MIN(J16:J20) -> 0.06234414 | K23: =MIN(K16:K20) -> 0.077217345
D24: Median | E24: =MEDIAN(E16:E20) -> 6 | F24: =MEDIAN(F16:F20) -> 0.05296754 | G24: =MEDIAN(G16:G20) -> 6.5 | H24: =MEDIAN(H16:H20) -> 0.058793014 | I24: =MEDIAN(I16:I20) -> 8.5 | J24: =MEDIAN(J16:J20) -> 0.075862069 | K24: =MEDIAN(K16:K20) -> 0.0935413
D25: Mean | E25: =AVERAGE(E16:E20) -> 7.31 | F25: =AVERAGE(F16:F20) -> 0.052250726 | G25: =AVERAGE(G16:G20) -> 8.06 | H25: =AVERAGE(H16:H20) -> 0.057937863 | I25: =AVERAGE(I16:I20) -> 10.37 | J25: =AVERAGE(J16:J20) -> 0.074748461 | K25: =AVERAGE(K16:K20) -> 0.088755442
A28: (1) 4 Year compound annual growth rate (CAGR) - 3 periods

Sheet Debt
A1: KENTUCKY DEPARTMENT OF REVENUE
A2: DIVISION OF STATE VALUATION, PUBLIC SERVICE BRANCH
A3: 2026 Tax Year
A6: =+'S&D'!A12 -> Railroad Carriers
E7: DEBT RATE for Direct and Yield Approach
E8: YEAR END 12/31/2025
B10: Ticker | C10: Industry | D10: Actual | E10: Financial | F10: S & P | G10: Numeric | H10: Moody's Bond | I10: Numeric | J10: Mergent Bond
A11: Company | B11: Symbol | C11: Group | D11: Tax Rate | E11: Strength | F11: Rating | G11: Rating | H11: Rating | I11: Rating | J11: Debt Rate
A12: VL | B12: VL | C12: VL | D12: VL | E12: VL
A15: =+'S&D'!A22 -> Canadian National | B15: =+'S&D'!B22 -> CNI | C15: =+'S&D'!C22 -> Railroad | D15: =+'Beta for CAPM'!D18 -> 0.25 | E15: =+'Beta for CAPM'!G18 -> A+ | F15: A- | G15: 9 | H15: A2 | I15: =VLOOKUP(H15,$A$33:$E$56,2,0) -> 8 | J15: =VLOOKUP(I15,$B$33:$E$56,3,0) -> 0.0563
A16: =+'S&D'!A23 -> Canadian Pacific Kansas City Limited CPKC | B16: =+'S&D'!B23 -> CP | C16: =+'S&D'!C23 -> Railroad | D16: =+'Beta for CAPM'!D19 -> 0.25 | E16: =+'Beta for CAPM'!G19 -> A | F16: BBB+ | G16: 10 | H16: Baa1 | I16: =VLOOKUP(H16,$A$33:$E$56,2,0) -> 10 | J16: =VLOOKUP(I16,$B$33:$E$56,3,0) -> 0.059
A17: =+'S&D'!A24 -> CSX Corp | B17: =+'S&D'!B24 -> CSX | C17: =+'S&D'!C24 -> Railroad | D17: =+'Beta for CAPM'!D20 -> 0.23 | E17: =+'Beta for CAPM'!G20 -> A | F17: BBB+ | G17: 10 | H17: A3 | I17: =VLOOKUP(H17,$A$33:$E$56,2,0) -> 9 | J17: =VLOOKUP(I17,$B$33:$E$56,3,0) -> 0.0563
A18: =+'S&D'!A25 -> Norfolk Southern | B18: =+'S&D'!B25 -> NSC | C18: =+'S&D'!C25 -> Railroad | D18: =+'Beta for CAPM'!D21 -> 0.22 | E18: =+'Beta for CAPM'!G21 -> A | F18: BBB+ | G18: 10 | H18: Baa1 | I18: =VLOOKUP(H18,$A$33:$E$56,2,0) -> 10 | J18: =VLOOKUP(I18,$B$33:$E$56,3,0) -> 0.059
A19: =+'S&D'!A26 -> Union Pacific Railroad | B19: =+'S&D'!B26 -> UNP | C19: =+'S&D'!C26 -> Railroad | D19: =+'Beta for CAPM'!D22 -> 0.24 | E19: =+'Beta for CAPM'!G22 -> A+ | F19: A- | G19: 9 | H19: A3 | I19: =VLOOKUP(H19,$A$33:$E$56,2,0) -> 9 | J19: =VLOOKUP(I19,$B$33:$E$56,3,0) -> 0.0563
E21: High | G21: =MAX(G15:G19) -> 10 | I21: =MAX(I15:I19) -> 10 | J21: =MAX(J15:J19) -> 0.059
E22: Low | G22: =MIN(G15:G19) -> 9 | I22: =MIN(I15:I19) -> 8 | J22: =MIN(J15:J19) -> 0.0563
E23: Median | G23: =MEDIAN(G15:G19) -> 10 | I23: =MEDIAN(I15:I19) -> 9 | J23: =MEDIAN(J15:J19) -> 0.0563
E24: Mean | G24: =AVERAGE(G15:G19) -> 9.6 | I24: =AVERAGE(I15:I19) -> 9.2 | J24: =AVERAGE(J15:J19) -> 0.05738
H27: Indicated Rate of Debt > | J27: 0.0574
A31: Bond Rating Scale
A32: Moody's Rating | B32: Scale | C32: S&P Rating | D32: Corporate December Avg | E32: Utility December Avg
A33: Aaa1 | B33: 1 | C33: AAA+ | D33: 0.0531 | E33: 0.0531
A34: Aaa2 | B34: 2 | C34: AAA | D34: 0.0531 | E34: 0.0531 | F34: Obligations rated Aaa are judged to be of the highest quality, with minimal risk.
A35: Aaa3 | B35: 3 | C35: AAA- | D35: 0.0531 | E35: 0.0531
A36: Aa1 | B36: 4 | C36: AA+ | D36: 0.0549 | E36: 0.0557
A37: Aa2 | B37: 5 | C37: AA | D37: 0.0549 | E37: 0.0557 | F37: Obligations rated Aa are judged to be of high quality, with minimal risk.
A38: Aa3 | B38: 6 | C38: AA- | D38: 0.0549 | E38: 0.0557
A39: A1 | B39: 7 | C39: A+ | D39: 0.0563 | E39: 0.0568
A40: A2 | B40: 8 | C40: A | D40: 0.0563 | E40: 0.0568 | F40: Obligations rated A are considered upper-medium-grade and are sub­ject to low credit risk.
A41: A3 | B41: 9 | C41: A- | D41: 0.0563 | E41: 0.0568
A42: Baa1 | B42: 10 | C42: BBB+ | D42: 0.059 | E42: 0.0588
A43: Baa2 | B43: 11 | C43: BBB | D43: 0.059 | E43: 0.0588 | F43: Obligations rated Baa are subject to moderate credit risk. They are considered medium-grade and as such may possess speculative characteristics.
A44: Baa3 | B44: 12 | C44: BBB- | D44: 0.059 | E44: 0.0588
A45: Ba1 | B45: 13 | C45: BB+ | D45: 0.0813 | E45: 0.0814
A46: Ba2 | B46: 14 | C46: BB | D46: 0.0813 | E46: 0.0814 | F46: Obligations rated Ba are judged to have speculative elements and are subject to substantial credit risk.
A47: Ba3 | B47: 15 | C47: BB- | D47: 0.0813 | E47: 0.0814
A48: B1 | B48: 16 | C48: B+ | D48: 0.0899 | E48: 0.09
A49: B2 | B49: 17 | C49: B | D49: 0.0899 | E49: 0.09 | F49: Obligations rated B are considered speculative and are subject to high credit risk.
A50: B3 | B50: 18 | C50: B- | D50: 0.0899 | E50: 0.09
A51: Caa1 | B51: 19 | C51: CCC+ | D51: 0.0985 | E51: 0.0986
...

Sheet Direct GCF
A1: KENTUCKY DEPARTMENT OF REVENUE
A2: DIVISION OF STATE VALUATION, PUBLIC SERVICE BRANCH
A3: 2026 Tax Year
A6: =+'S&D'!A12 -> Railroad Carriers
D9: GCF CASH FLOW MULTIPLE & EQUITY RATE | K9: GCF CASH FLOW MULTIPLE & EQUITY RATE (1 Yr Projected VL)
D10: YEAR END 12/31/2025 | K10: YEAR END 12/31/2026
B12: Ticker | C12: Share | D12: Gross Cash Flow | E12: Gross Cash Flow | F12: Computed | H12: Ticker | I12: Share | J12: Gross Cash Flow | L12: Gross Cash Flow | M12: Computed
A13: Company | B13: Symbol | C13: Price | D13: Per Share | E13: Multiple | F13: Inverse | H13: Symbol | I13: Price | J13: Per Share | L13: Multiple | M13: Inverse
C14: Year End | D14: VL Historic | I14: Year End | J14: VL Projected
A17: =+'S&D'!A22 -> Canadian National | B17: =+'S&D'!B22 -> CNI | C17: =+'S&D'!G22 -> 98.85 | D17: 8.55 | E17: =C17/D17 -> 11.561404 | F17: =1/E17 -> 0.086494689 | H17: =+B17 -> CNI | I17: =+C17 -> 98.85 | J17: 9.2 | L17: =I17/J17 -> 10.744565 | M17: =1/L17 -> 0.093070309
A18: =+'S&D'!A23 -> Canadian Pacific Kansas City Limited CPKC | B18: =+'S&D'!B23 -> CP | C18: =+'S&D'!G23 -> 73.63 | D18: 5.75 | E18: =C18/D18 -> 12.805217 | F18: =1/E18 -> 0.078093169 | H18: =+B18 -> CP | I18: =+C18 -> 73.63 | J18: 6.35 | L18: =I18/J18 -> 11.595276 | M18: =1/L18 -> 0.086242021
A19: =+'S&D'!A24 -> CSX Corp | B19: =+'S&D'!B24 -> CSX | C19: =+'S&D'!G24 -> 36.25 | D19: 2.85 | E19: =C19/D19 -> 12.719298 | F19: =1/E19 -> 0.07862069 | H19: =+B19 -> CSX | I19: =+C19 -> 36.25 | J19: 3.2 | L19: =I19/J19 -> 11.328125 | M19: =1/L19 -> 0.088275862
A20: =+'S&D'!A25 -> Norfolk Southern | B20: =+'S&D'!B25 -> NSC | C20: =+'S&D'!G25 -> 288.72 | D20: 18.7 | E20: =C20/D20 -> 15.439572 | F20: =1/E20 -> 0.064768634 | H20: =+B20 -> NSC | I20: =+C20 -> 288.72 | J20: 20.1 | L20: =I20/J20 -> 14.364179 | M20: =1/L20 -> 0.069617623
A21: =+'S&D'!A26 -> Union Pacific Railroad | B21: =+'S&D'!B26 -> UNP | C21: =+'S&D'!G26 -> 231.32 | D21: 16.64 | E21: =C21/D21 -> 13.901442 | F21: =1/E21 -> 0.071934982 | H21: =+B21 -> UNP | I21: =+C21 -> 231.32 | J21: 17.95 | L21: =I21/J21 -> 12.886908 | M21: =1/L21 -> 0.077598132
C23: High | D23: =MAX(D17:D21) -> 18.7 | E23: =MAX(E17:E21) -> 15.439572 | F23: =MAX(F17:F21) -> 0.086494689 | I23: High | J23: =MAX(J17:J21) -> 20.1 | L23: =MAX(L17:L21) -> 14.364179 | M23: =MAX(M17:M21) -> 0.093070309
C24: Low | D24: =MIN(D17:D21) -> 2.85 | E24: =MIN(E17:E21) -> 11.561404 | F24: =MIN(F17:F21) -> 0.064768634 | I24: Low | J24: =MIN(J17:J21) -> 3.2 | L24: =MIN(L17:L21) -> 10.744565 | M24: =MIN(M17:M21) -> 0.069617623
C25: Median | D25: =MEDIAN(D17:D21) -> 8.55 | E25: =MEDIAN(E17:E21) -> 12.805217 | F25: =MEDIAN(F17:F21) -> 0.078093169 | I25: Median | J25: =MEDIAN(J17:J21) -> 9.2 | L25: =MEDIAN(L17:L21) -> 11.595276 | M25: =MEDIAN(M17:M21) -> 0.086242021
C26: Mean | D26: =AVERAGE(D17:D21) -> 10.498 | E26: =AVERAGE(E17:E21) -> 13.285387 | F26: =AVERAGE(F17:F21) -> 0.075982433 | I26: Mean | J26: =AVERAGE(J17:J21) -> 11.36 | L26: =AVERAGE(L17:L21) -> 12.183811 | M26: =AVERAGE(M17:M21) -> 0.082960789
D28: Selected | E28: 13.29 | F28: 0.076 | J28: Selected | K28: 0 | L28: 12.18 | M28: 0.083
E30: SELECTED AVERAGE > | G30: =(+E28+L28)/2 -> 12.735 | H30: =(+F28+M28)/2 -> 0.0795
A34: Cash flow is typically defined to be net income plus depreciation and amortization.
A35: This measure is considered relevant for companies with high non-cash charges reflected in the income statement. Non-cash charges include depreciation & amortization, goodwill impairments, asset write downs,
A36: stock based compensation, and deferred income taxes and investment tax credits.

Sheet Direct NOPAT
A1: KENTUCKY DEPARTMENT OF REVENUE
A2: DIVISION OF STATE VALUATION, PUBLIC SERVICE BRANCH
A3: 2026 Tax Year
A6: =+'S&D'!A12 -> Railroad Carriers
E8: NOPAT CASH FLOW MULTIPLE & EQUITY RATE | K8: NOPAT CASH FLOW MULTIPLE & EQUITY RATE (1 Yr Projected VL)
E9: YEAR END 12/31/2025 | K9: YEAR END 12/31/2025
C11: Ticker | D11: Share | E11: NOPAT Earnings | F11: NOPAT | G11: Computed | I11: Ticker | J11: Share | K11: NOPAT Earnings | L11: NOPAT | M11: Computed
A12: Company | C12: Symbol | D12: Price | E12: Per Share | F12: Multiple | G12: Inverse | I12: Symbol | J12: Price | K12: Per Share | L12: Multiple | M12: Inverse
D13: Year End | E13: VL Historic | J13: Year End | K13: VL Projected NOI
A16: =+'S&D'!A22 -> Canadian National | C16: =+'S&D'!B22 -> CNI | D16: ='S&D'!G22 -> 98.85 | E16: =+Earnings!E16 -> 6 | F16: =D16/E16 -> 16.475 | G16: =1/F16 -> 0.060698027 | I16: =+C16 -> CNI | J16: =+D16 -> 98.85 | K16: =+Earnings!G16 -> 6.5 | L16: =J16/K16 -> 15.207692 | M16: =1/L16 -> 0.065756196
A17: =+'S&D'!A23 -> Canadian Pacific Kansas City Limited CPKC | C17: =+'S&D'!B23 -> CP | D17: ='S&D'!G23 -> 73.63 | E17: =+Earnings!E17 -> 3.9 | F17: =D17/E17 -> 18.879487 | G17: =1/F17 -> 0.05296754 | I17: =+C17 -> CP | J17: =+D17 -> 73.63 | K17: =+Earnings!G17 -> 4.4 | L17: =J17/K17 -> 16.734091 | M17: =1/L17 -> 0.059758251
A18: =+'S&D'!A24 -> CSX Corp | C18: =+'S&D'!B24 -> CSX | D18: ='S&D'!G24 -> 36.25 | E18: =+Earnings!E18 -> 1.85 | F18: =D18/E18 -> 19.594595 | G18: =1/F18 -> 0.051034483 | I18: =+C18 -> CSX | J18: =+D18 -> 36.25 | K18: =+Earnings!G18 -> 2.1 | L18: =J18/K18 -> 17.261905 | M18: =1/L18 -> 0.057931034
A19: =+'S&D'!A25 -> Norfolk Southern | C19: =+'S&D'!B25 -> NSC | D19: ='S&D'!G25 -> 288.72 | E19: =+Earnings!E19 -> 12.4 | F19: =D19/E19 -> 23.283871 | G19: =1/F19 -> 0.042948185 | I19: =+C19 -> NSC | J19: =+D19 -> 288.72 | K19: =+Earnings!G19 -> 13.7 | L19: =J19/K19 -> 21.074453 | M19: =1/L19 -> 0.047450817
A20: =+'S&D'!A26 -> Union Pacific Railroad | C20: =+'S&D'!B26 -> UNP | D20: ='S&D'!G26 -> 231.32 | E20: =+Earnings!E20 -> 12.4 | F20: =D20/E20 -> 18.654839 | G20: =1/F20 -> 0.053605395 | I20: =+C20 -> UNP | J20: =+D20 -> 231.32 | K20: =+Earnings!G20 -> 13.6 | L20: =J20/K20 -> 17.008824 | M20: =1/L20 -> 0.058793014
D22: High | E22: =MAX(E16:E20) -> 12.4 | F22: =MAX(F16:F20) -> 23.283871 | G22: =MAX(G16:G20) -> 0.060698027 | J22: High | K22: =MAX(K16:K20) -> 13.7 | L22: =MAX(L16:L20) -> 21.074453 | M22: =MAX(M16:M20) -> 0.065756196
D23: Low | E23: =MIN(E16:E20) -> 1.85 | F23: =MIN(F16:F20) -> 16.475 | G23: =MIN(G16:G20) -> 0.042948185 | J23: Low | K23: =MIN(K16:K20) -> 2.1 | L23: =MIN(L16:L20) -> 15.207692 | M23: =MIN(M16:M20) -> 0.047450817
D24: Median | E24: =MEDIAN(E16:E20) -> 6 | F24: =MEDIAN(F16:F20) -> 18.879487 | G24: =MEDIAN(G16:G20) -> 0.05296754 | J24: Median | K24: =MEDIAN(K16:K20) -> 6.5 | L24: =MEDIAN(L16:L20) -> 17.008824 | M24: =MEDIAN(M16:M20) -> 0.058793014
D25: Mean | E25: =AVERAGE(E16:E20) -> 7.31 | F25: =AVERAGE(F16:F20) -> 19.377558 | G25: =AVERAGE(G16:G20) -> 0.052250726 | J25: Mean | K25: =AVERAGE(K16:K20) -> 8.06 | L25: =AVERAGE(L16:L20) -> 17.457393 | M25: =AVERAGE(M16:M20) -> 0.057937863
E27: Selected | F27: 19.38 | G27: 0.0523 | K27: Selected | L27: 17.46 | M27: 0.0579
G31: SELECTED AVERAGE > | I31: =(+F27+L27)/2 -> 18.42 | J31: =(+G27+M27)/2 -> 0.0551
E36: NOPAT CASH FLOW MULTIPLE & EQUITY RATE (LT 27-29 Yr Projected VL)
E37: YEAR END 12/31/2025
C39: Ticker | D39: Share | E39: NOPAT Earnings | F39: NOPAT | G39: Computed
A40: Company | C40: Symbol | D40: Price | E40: Per Share | F40: Multiple | G40: Inverse
D41: Year End | E41: VL LT Projected NOI
A44: =+'S&D'!A22 -> Canadian National | C44: =+'S&D'!B22 -> CNI | D44: ='S&D'!G22 -> 98.85 | E44: =+Earnings!I16 -> 8.5 | F44: =D44/E44 -> 11.629412 | G44: =1/F44 -> 0.085988872
A45: =+'S&D'!A23 -> Canadian Pacific Kansas City Limited CPKC | C45: =+'S&D'!B23 -> CP | D45: ='S&D'!G23 -> 73.63 | E45: =+Earnings!I17 -> 5.6 | F45: =D45/E45 -> 13.148214 | G45: =1/F45 -> 0.076055955
A46: =+'S&D'!A24 -> CSX Corp | C46: =+'S&D'!B24 -> CSX | D46: ='S&D'!G24 -> 36.25 | E46: =+Earnings!I18 -> 2.75 | F46: =D46/E46 -> 13.181818 | G46: =1/F46 -> 0.075862069
A47: =+'S&D'!A25 -> Norfolk Southern | C47: =+'S&D'!B25 -> NSC | D47: ='S&D'!G25 -> 288.72 | E47: =+Earnings!I19 -> 18 | F47: =D47/E47 -> 16.04 | G47: =1/F47 -> 0.06234414
A48: =+'S&D'!A26 -> Union Pacific Railroad | C48: =+'S&D'!B26 -> UNP | D48: ='S&D'!G26 -> 231.32 | E48: =+Earnings!I20 -> 17 | F48: =D48/E48 -> 13.607059 | G48: =1/F48 -> 0.073491268
D50: High | E50: =MAX(E44:E48) -> 18 | F50: =MAX(F44:F48) -> 16.04 | G50: =MAX(G44:G48) -> 0.085988872
D51: Low | E51: =MIN(E44:E48) -> 2.75 | F51: =MIN(F44:F48) -> 11.629412 | G51: =MIN(G44:G48) -> 0.06234414
D52: Median | E52: =MEDIAN(E44:E48) -> 8.5 | F52: =MEDIAN(F44:F48) -> 13.181818 | G52: =MEDIAN(G44:G48) -> 0.075862069
D53: Mean | E53: =AVERAGE(E44:E48) -> 10.37 | F53: =AVERAGE(F44:F48) -> 13.521301 | G53: =AVERAGE(G44:G48) -> 0.074748461
E55: Selected | F55: 13.52 | G55: 0.0747

Sheet CAPM
A1: KENTUCKY DEPARTMENT OF REVENUE
A2: DIVISION OF STATE VALUATION, PUBLIC SERVICE BRANCH
A3: 2026 Tax Year
A6: =+'S&D'!A12 -> Railroad Carriers
E7: CAPITAL ASSET PRICING MODEL (CAPM)
E8: YEAR END 12/31/2025
A13: KE = Rf + (B X ERP)
A14: CAPM Models | B14: Equity Risk Premium (ERP) | C14: Industry Beta (B) | D14: Industry Risk Premium | E14: Risk Free Rate (Rf) | F14: Indicated Equity Rate
A16: Three Stage Ex Ante Version 1 (1) | B16: 0.0294 | C16: =+'Beta for CAPM'!H29 -> 0.95 | D16: =+B16*C16 -> 0.02793 | E16: =+'Growth & Inflation Rates'!G24 -> 0.0481 | F16: =+D16+E16 -> 0.07603
A17: Three Stage Ex Ante Version 2 (2) | B17: 0.0298 | C17: =+C16 -> 0.95 | D17: =+B17*C17 -> 0.02831 | E17: =+E16 -> 0.0481 | F17: =+D17+E17 -> 0.07641
A19: Damodaran Implied ERP Ex Ante Trailing 12 mo Cash Yield (3) | B19: 0.0423 | C19: =+C16 -> 0.95 | D19: =+B19*C19 -> 0.040185 | E19: =+E16 -> 0.0481 | F19: =+D19+E19 -> 0.088285
A20: Damodaran Implied ERP Ex Ante Avg CF Yield Last 10 Yrs (3) | B20: 0.0618 | C20: =+C16 -> 0.95 | D20: =+B20*C20 -> 0.05871 | E20: =+E16 -> 0.0481 | F20: =+D20+E20 -> 0.10681
A21: Damodaran Implied ERP Ex Ante Net Cash Yield (3) | B21: 0.0396 | C21: =+C16 -> 0.95 | D21: =+B21*C21 -> 0.03762 | E21: =+E16 -> 0.0481 | F21: =+D21+E21 -> 0.08572
A22: Damodaran Implied ERP Ex Ante Norm. Earnings & Payout (3) | B22: 0.0362 | C22: =+C16 -> 0.95 | D22: =+B22*C22 -> 0.03439 | E22: =+E16 -> 0.0481 | F22: =+D22+E22 -> 0.08249
A24: The CFO Survey (4) | B24: 0.0561 | C24: =+C16 -> 0.95 | D24: =+B24*C24 -> 0.053295 | E24: =+E16 -> 0.0481 | F24: =+D24+E24 -> 0.101395
A26: P. Fernandez, T. Garcia de Santos & J.F.Acin (5) | B26: 0.055 | C26: =+C16 -> 0.95 | D26: =+B26*C26 -> 0.05225 | E26: =+E16 -> 0.0481 | F26: =+D26+E26 -> 0.10035
A28: BVR - Historical, Arithmetic Mean (6) | B28: 0.0678 | C28: =+C16 -> 0.95 | D28: =+B28*C28 -> 0.06441 | E28: =+E16 -> 0.0481 | F28: =+D28+E28 -> 0.11251
A29: BVR - Historical, Geometric Mean (7) | B29: 0.0554 | C29: =+C16 -> 0.95 | D29: =+B29*C29 -> 0.05263 | E29: =+E16 -> 0.0481 | F29: =+D29+E29 -> 0.10073
A31: KROLL Ex Post - ERP Historical (8) | B31: 0.0737 | C31: =+C16 -> 0.95 | D31: =+B31*C31 -> 0.070015 | E31: =+E16 -> 0.0481 | F31: =+D31+E31 -> 0.118115
A32: KROLL Ex Post - ERP Supply Side (8) | B32: 0.0631 | C32: =+C16 -> 0.95 | D32: =+B32*C32 -> 0.059945 | E32: =+E16 -> 0.0481 | F32: =+D32+E32 -> 0.108045
A33: KROLL Ex Ante - ERP Conditional (8) | B33: 0.05 | C33: =+C16 -> 0.95 | D33: =+B33*C33 -> 0.0475 | E33: =+E16 -> 0.0481 | F33: =+D33+E33 -> 0.0956
A39: KE = Rf + (B X ERP X 75%) = (ERP X 25%)
A40: Empirical CAPM Models | B40: Equity Risk Premium (ERP) | C40: Industry Beta (B) | D40: Weighted Industry Risk Premium (75%) | E40: Weighted Equity Risk Premium (25%) | F40: Risk Free Rate (Rf) | G40: Indicated Equity Rate
A42: =+A16 -> Three Stage Ex Ante Version 1 (1) | B42: =+B16 -> 0.0294 | C42: =+C16 -> 0.95 | D42: =+B42*C42*0.75 -> 0.0209475 | E42: =+B42*0.25 -> 0.00735 | F42: =+E16 -> 0.0481 | G42: =+D42+E42+F42 -> 0.0763975
A43: =+A17 -> Three Stage Ex Ante Version 2 (2) | B43: =+B17 -> 0.0298 | C43: =+C17 -> 0.95 | D43: =+B43*C43*0.75 -> 0.0212325 | E43: =+B43*0.25 -> 0.00745 | F43: =+E17 -> 0.0481 | G43: =+D43+E43+F43 -> 0.0767825
A45: =+A19 -> Damodaran Implied ERP Ex Ante Trailing 12 mo Cash Yield (3) | B45: =+B19 -> 0.0423 | C45: =+C19 -> 0.95 | D45: =+B45*C45*0.75 -> 0.03013875 | E45: =+B45*0.25 -> 0.010575 | F45: =+E19 -> 0.0481 | G45: =+D45+E45+F45 -> 0.08881375
A46: =+A20 -> Damodaran Implied ERP Ex Ante Avg CF Yield Last 10 Yrs (3) | B46: =+B20 -> 0.0618 | C46: =+C20 -> 0.95 | D46: =+B46*C46*0.75 -> 0.0440325 | E46: =+B46*0.25 -> 0.01545 | F46: =+E20 -> 0.0481 | G46: =+D46+E46+F46 -> 0.1075825
A47: =+A21 -> Damodaran Implied ERP Ex Ante Net Cash Yield (3) | B47: =+B21 -> 0.0396 | C47: =+C21 -> 0.95 | D47: =+B47*C47*0.75 -> 0.028215 | E47: =+B47*0.25 -> 0.0099 | F47: =+E21 -> 0.0481 | G47: =+D47+E47+F47 -> 0.086215
A48: =+A22 -> Damodaran Implied ERP Ex Ante Norm. Earnings & Payout (3) | B48: =+B22 -> 0.0362 | C48: =+C22 -> 0.95 | D48: =+B48*C48*0.75 -> 0.0257925 | E48: =+B48*0.25 -> 0.00905 | F48: =+E22 -> 0.0481 | G48: =+D48+E48+F48 -> 0.0829425
A50: The CFO Survey (4) | B50: =+B24 -> 0.0561 | C50: =+C24 -> 0.95 | D50: =+B50*C50*0.75 -> 0.03997125 | E50: =+B50*0.25 -> 0.014025 | F50: =+E24 -> 0.0481 | G50: =+D50+E50+F50 -> 0.10209625
A52: P. Fernandez, T. Garcia de Santos & J.F.Acin (5) | B52: =+B26 -> 0.055 | C52: =+C26 -> 0.95 | D52: =+B52*C52*0.75 -> 0.0391875 | E52: =+B52*0.25 -> 0.01375 | F52: =+E26 -> 0.0481 | G52: =+D52+E52+F52 -> 0.1010375
A54: BVR - Historical, Arithmetic Mean (6) | B54: =+B28 -> 0.0678 | C54: =+C28 -> 0.95 | D54: =+B54*C54*0.75 -> 0.0483075 | E54: =+B54*0.25 -> 0.01695 | F54: =+E28 -> 0.0481 | G54: =+D54+E54+F54 -> 0.1133575
A55: BVR - Historical, Geometric Mean (7) | B55: =+B29 -> 0.0554 | C55: =+C29 -> 0.95 | D55: =+B55*C55*0.75 -> 0.0394725 | E55: =+B55*0.25 -> 0.01385 | F55: =+E29 -> 0.0481 | G55: =+D55+E55+F55 -> 0.1014225
A57: KROLL Ex Post - ERP Historical (8) | B57: =+B31 -> 0.0737 | C57: =+C31 -> 0.95 | D57: =+B57*C57*0.75 -> 0.05251125 | E57: =+B57*0.25 -> 0.018425 | F57: =+E31 -> 0.0481 | G57: =+D57+E57+F57 -> 0.11903625
A58: KROLL Ex Post - ERP Supply Side (8) | B58: =+B32 -> 0.0631 | C58: =+C32 -> 0.95 | D58: =+B58*C58*0.75 -> 0.04495875 | E58: =+B58*0.25 -> 0.015775 | F58: =+E32 -> 0.0481 | G58: =+D58+E58+F58 -> 0.10883375
A59: KROLL Ex Ante - ERP Conditional (8) | B59: =+B33 -> 0.05 | C59: =+C33 -> 0.95 | D59: =+B59*C59*0.75 -> 0.035625 | E59: =+B59*0.25 -> 0.0125 | F59: =+E33 -> 0.0481 | G59: =+D59+E59+F59 -> 0.096225
A64: Notes:
A66: (1) Three Stage Dividend Growth Model, S&P 500. The Three Stage Ex Ante calculations were performed by Montana. The Equity risk premiums are shown above.
A67: (2) Three Stage Dividend Growth Model, S&P 500. The Three Stage Ex Ante calculations were performed by Minnesota. The Equity risk premiums are shown above.
A69: (3) Implied Equity Risk Premium on January 2, 2026 as determined by Dr. Aswath Damodaran
...

Sheet Growth & Inflation Rates
A1: KENTUCKY DEPARTMENT OF REVENUE
A2: DIVISION OF STATE VALUATION, PUBLIC SERVICE BRANCH
A3: 2026 Tax Year
A7: =+'S&D'!A12 -> Railroad Carriers | E7: GROWTH & INFLATION RATES
E8: YEAR END 12/31/2025
A11: SHORT-TERM GROWTH RATES (5 years)
B13: Zacks Investment Research | C13: CFRA S&P Net Advantage | D13: Value Line Earnings | E13: Value Line Dividends | F13: KY DOR Dividends Growth Rate (Median / Average) | G13: KY DOR Earnings Growth Rate (Median / Average) | H13: Yahoo Finance
A15: =+A7 -> Railroad Carriers | F15: =+'Dividends '!K24 -> 0.077217345 | G15: =+Earnings!K24 -> 0.0935413
F16: =+'Dividends '!K25 -> 0.077484078 | G16: =+Earnings!K25 -> 0.088755442
A18: RISK FREE RATE (Rf)
D19: RISK FREE RATE (Rf)
C20: Federal Reserve Statistical Release (January 2, 2026) Treasury Constant Maturities, Nominal (1) :
C21: 10-year U.S. Treasury coupon bonds | D21: 0.0419
C22: 20-year U.S. Treasury coupon bonds | D22: 0.0481
C23: 30-year U.S. Treasury coupon bonds | D23: 0.0486 | G23: KDOR Selected Risk Free Rate (Rf) >
C24: Value Line Investment Survey (January 10, 2026) Selected Yields on Taxable U.S. Treasury Securities : | G24: 0.0481
C25: 10-year U.S. Treasury coupon bonds | D25: 0.04123
C26: 20-year U.S. Treasury coupon bonds | D26: 0
C27: 30-year U.S. Treasury coupon bonds | D27: 0.0483
C28: Damodaran selected Risk-Free rate (January 1, 2026) (7) : | D28: 0.0418
C29: KROLL Cost of Capital Navigator Risk-Free rate Ex Post (January 1, 2026) : | D29: 0.0479
E31: Inflation and Gross Domestic Product (GDP) Data
E32: YEAR END 12/31/2025
A33: INFLATION (CPI) & GROSS DOMESTIC PRODUCT (GDP)
D35: Inflation | E35: Real LT Growth | F35: Nominal
A36: Source | D36: CPI | E36: GDP | F36: Growth
A38: Federal Reserve Statistical Release 10 Yr Inflation protected Treasury securities (1) | D38: 0.0225 | E38: na | F38: na
A39: Federal Reserve Statistical Release 20 Yr Inflation protected Treasury securities (1) | D39: 0.0242 | E39: na | F39: na
A40: Federal Reserve Statistical Release 30 Yr Inflation protected Treasury securities (1) | D40: 0.0223 | E40: na | F40: na
A41: Federal Reserve Bank of Philadelphia / Livingston Survey Mean (2) | D41: 0.0229 | E41: 0.0201 | F41: =+D41+E41 -> 0.043
A42: Federal Reserve Bank of Philadelphia / Livingston Survey Median (2a) | D42: 0.024 | E42: 0.02 | F42: =+D42+E42 -> 0.044
A43: Federal Reserve Bank of Philadelphia /Survey of Professional Forecasters Mean (2b) | D43: 0.0234 | E43: 0.021 | F43: =+D43+E43 -> 0.0444
A44: Congressional Budget Office Real Economic Projections (3) | D44: 0.023 | E44: 0.018 | F44: =+D44+E44 -> 0.041
A45: Congressional Budget Office Real Economic Projections (3a) | D45: 0.023 | E45: 0.021 | F45: =+D45+E45 -> 0.044
A46: Congressional Budget Office Real Economic Projections (3b) | D46: 0.023 | E46: 0.019 | F46: =+D46+E46 -> 0.042
A47: The Trading Economics (4) | D47: 0.023 | E47: 0.021 | F47: =+D47+E47 -> 0.044
A48: The World Bank (5) | D48: na | E48: 0.022 | F48: na
A49: Federal Reserve Bank "Long Term" Projection - Members & Presidents opinion (6) | D49: 0.02 | E49: 0.018 | F49: =+D49+E49 -> 0.038
C50: High | D50: =MAX(D38:D49) -> 0.0242 | E50: =MAX(E38:E49) -> 0.022 | F50: =MAX(F38:F49) -> 0.0444
C51: Low | D51: =MIN(D38:D49) -> 0.02 | E51: =MIN(E38:E49) -> 0.018 | F51: =MIN(F38:F49) -> 0.038
...

Sheet Indicated Yield Equity Rate 
A1: KENTUCKY DEPARTMENT OF REVENUE
A2: DIVISION OF STATE VALUATION, PUBLIC SERVICE BRANCH
A3: 2026 Tax Year
A6: =+'S&D'!A12 -> Railroad Carriers
C9: EQUITY RATES for YIELD APPROACH
C10: YEAR END 12/31/2025
D13: Kentucky
C14: MODEL | D14: YIELD EQUITY RATE
C15: CAPM - Ex Ante, Three Stage - V1 | D15: =+CAPM!F16 -> 0.07603
C16: CAPM - Ex Ante, Three Stage - V2 | D16: =+CAPM!F17 -> 0.07641
C17: CAPM - Ex Ante Damodaran 12 Mo Cash Yield | D17: =+CAPM!F19 -> 0.088285
C18: CAPM - Ex Ante Damodaran Avg CF Yield Last 10 Yrs | D18: =+CAPM!F20 -> 0.10681
C19: CAPM - Ex Ante Damodaran Net Cash Yield | D19: =+CAPM!F21 -> 0.08572
C20: CAPM - Ex Ante Damodaran NEP | D20: =+CAPM!F22 -> 0.08249
C21: CAPM - The CFO Survey | D21: =+CAPM!F24 -> 0.101395
C22: CAPM - Fernandez, Banuls, & Acin | D22: =+CAPM!F26 -> 0.10035
C23: CAPM - Ex Post (BVR Historical, Arithmeic) | D23: =+CAPM!F28 -> 0.11251
C24: CAPM - Ex Post (BVR Historical, Geometric) | D24: =+CAPM!F29 -> 0.10073
C25: CAPM - Ex Post KROLL ERP Historical | D25: =+CAPM!F31 -> 0.118115
C26: CAPM - Ex Post KROLL ERP Supply Side | D26: =+CAPM!F32 -> 0.108045
C27: CAPM - Ex Ante KROLL ERP Conditional | D27: =+CAPM!F33 -> 0.0956
C28: Empirical CAPM - Ex Ante, Three Stage - V1 | D28: =+CAPM!G42 -> 0.0763975
C29: Empirical CAPM - Ex Ante, Three Stage - V2 | D29: =+CAPM!G43 -> 0.0767825
C30: Empirical CAPM - Ex Ante Damodaran 12 Mo Cash Yield | D30: =+CAPM!G45 -> 0.08881375
C31: Empirical CAPM - Ex Ante Damodaran Avg CF Yield Last 10 Yrs | D31: =+CAPM!G46 -> 0.1075825
C32: Empirical CAPM - Ex Ante Damodaran Net Cash Yield | D32: =+CAPM!G47 -> 0.086215
C33: Empirical CAPM - Ex Ante Damodaran NEP | D33: =+CAPM!G48 -> 0.0829425
C34: Empirical CAPM - The CFO Survey | D34: =+CAPM!G50 -> 0.10209625
C35: Empirical CAPM - Fernandez, Banuls, & Acin | D35: =+CAPM!G52 -> 0.1010375
C36: Empirical CAPM - Ex Post (BVR Historical, Arithmeic) | D36: =+CAPM!G54 -> 0.1133575
C37: Empirical CAPM - Ex Post (BVR Historical, Geometric) | D37: =+CAPM!G55 -> 0.1014225
C38: Empirical CAPM - Ex Post KROLL ERP Historical | D38: =+CAPM!G57 -> 0.11903625
C39: Empirical CAPM - Ex Post KROLL ERP Supply Side | D39: =+CAPM!G58 -> 0.10883375
C40: Empirical CAPM - Ex Ante KROLL ERP Conditional | D40: =+CAPM!G59 -> 0.096225
C41: DGM - Single Stage - Dividend Growth | D41: =+'Single Stage Div Growth Model'!I28 -> 0.0992
C42: DGM - Single Stage - Earnings Growth | D42: =+'Single Stage Div Growth Model'!I30 -> 0.1062
C43: DGM - Two Stage - Dividend Growth | D43: =+'Two-Stage Div Growth Model'!H32 -> 0.0927
C44: P/E Ratio - Long Term Projection NOPAT | D44: =+'Direct NOPAT'!G55 -> 0.0747
C46: High | D46: =MAX(D15:D43) -> 0.11903625
C47: Low | D47: =MIN(D15:D43) -> 0.07603
...

Sheet Single Stage Div Growth Model
A1: KENTUCKY DEPARTMENT OF REVENUE
A2: DIVISION OF STATE VALUATION, PUBLIC SERVICE BRANCH
A3: 2026 Tax Year
A6: =+'S&D'!A12 -> Railroad Carriers
F7: Yield Equity Rate - DGM (Dividend Growth) & DGM (Earnings Growth) -- Gordon Growth
F8: YEAR END 12/31/2025
B10: Ticker | C10: Industry | D10: Stock | E10: Common Stock | F10: Dividend Yield | G10: Projected Short Term | H10: Projected Short Term | I10: Equity Rate | J10: Equity Rate
A11: Company | B11: Symbol | C11: Group | D11: Price (P0) | E11: FMV | F11: Projected | G11: Dividend Growth Rate | H11: Earnings Per Share Growth Rate | I11: Dividend | J11: Earnings
G12: Estimated 23-25 to 29-31 | H12: Estimated 23-25 to 29-31
A13: A | B13: B | C13: C | D13: D | E13: E | F13: F | G13: G | H13: H | I13: (F+G) | J13: (F+H)
A14: VL | B14: VL | C14: VL | D14: Year End | G14: VL | H14: VL | I14: Calculated | J14: Calculated
A17: =+'S&D'!A22 -> Canadian National | B17: =+'S&D'!B22 -> CNI | C17: =+'S&D'!C22 -> Railroad | D17: =+'S&D'!G22 -> 98.85 | E17: =+'S&D'!D35 -> 60624705000 | F17: =+'Dividends '!H16 -> 0.0287304 | G17: 0.055 | H17: 0.07 | I17: =+F17+G17 -> 0.0837304 | J17: =+F17+H17 -> 0.0987304
A18: =+'S&D'!A23 -> Canadian Pacific Kansas City Limited CPKC | B18: =+'S&D'!B23 -> CP | C18: =+'S&D'!C23 -> Railroad | D18: =+'S&D'!G23 -> 73.63 | E18: =+'S&D'!D36 -> 6.6090288e+10 | F18: =+'Dividends '!H17 -> 0.010186065 | G18: 0.09 | H18: 0.1 | I18: =+F18+G18 -> 0.10018607 | J18: =+F18+H18 -> 0.11018607
A19: =+'S&D'!A24 -> CSX Corp | B19: =+'S&D'!B24 -> CSX | C19: =+'S&D'!C24 -> Railroad | D19: =+'S&D'!G24 -> 36.25 | E19: =+'S&D'!D37 -> 67425000000 | F19: =+'Dividends '!H18 -> 0.017655172 | G19: 0.15 | H19: 0.085 | I19: =+F19+G19 -> 0.16765517 | J19: =+F19+H19 -> 0.10265517
A20: =+'S&D'!A25 -> Norfolk Southern | B20: =+'S&D'!B25 -> NSC | C20: =+'S&D'!C25 -> Railroad | D20: =+'S&D'!G25 -> 288.72 | E20: =+'S&D'!D38 -> 6.4794744e+10 | F20: =+'Dividends '!H19 -> 0.018703242 | G20: 0.025 | H20: 0.085 | I20: =+F20+G20 -> 0.043703242 | J20: =+F20+H20 -> 0.10370324
A21: =+'S&D'!A26 -> Union Pacific Railroad | B21: =+'S&D'!B26 -> UNP | C21: =+'S&D'!C26 -> Railroad | D21: =+'S&D'!G26 -> 231.32 | E21: =+'S&D'!D39 -> 1.3722964e+11 | F21: =+'Dividends '!H20 -> 0.025938094 | G21: 0.075 | H21: 0.09 | I21: =+F21+G21 -> 0.10093809 | J21: =+F21+H21 -> 0.11593809
E22: High | F22: =MAX(F17:F21) -> 0.0287304 | G22: =MAX(G17:G21) -> 0.15 | H22: =MAX(H17:H21) -> 0.1 | I22: =MAX(I17:I21) -> 0.16765517 | J22: =MAX(J17:J21) -> 0.11593809
E23: Low | F23: =MIN(F17:F21) -> 0.010186065 | G23: =MIN(G17:G21) -> 0.025 | H23: =MIN(H17:H21) -> 0.07 | I23: =MIN(I17:I21) -> 0.043703242 | J23: =MIN(J17:J21) -> 0.0987304
E24: Median | F24: =MEDIAN(F17:F21) -> 0.018703242 | G24: =MEDIAN(G17:G21) -> 0.075 | H24: =MEDIAN(H17:H21) -> 0.085 | I24: =MEDIAN(I17:I21) -> 0.10018607 | J24: =MEDIAN(J17:J21) -> 0.10370324
E25: Mean | F25: =AVERAGE(F17:F21) -> 0.020242595 | G25: =AVERAGE(G17:G21) -> 0.079 | H25: =AVERAGE(H17:H21) -> 0.086 | I25: =AVERAGE(I17:I21) -> 0.099242595 | J25: =AVERAGE(J17:J21) -> 0.10624259
G28: DGM - Dividend Growth Rate > | I28: 0.0992
G30: DGM - Earnings Growth Rate > | I30: 0.1062
A32: Dividend Growth = DY + DG | C32: Earnings Growth = DY + EG
A33: DY = Dividend Yield | C33: DY = Dividend Yield
A34: DG = Dividend Growth | C34: EG = Earnings Growth
A37: KE = (D1 / Po) + G | C37: KE = (D1 / Po) + G
A39: KE = Cost of Equity | C39: KE = Cost of Equity
A40: D1 = Expected Dividends | C40: D1 = Expected Dividends
A41: Po = Current Price | C41: Po = Current Price
A42: G = Projected Growth (Div. 5 Yr Growth Rate) | C42: G = Projected Growth (Earnings Per Share 5 Yr Growth Rate)

Sheet Two-Stage Div Growth Model
A1: KENTUCKY DEPARTMENT OF REVENUE
A2: DIVISION OF STATE VALUATION, PUBLIC SERVICE BRANCH
A3: 2026 Tax Year
A6: =+'S&D'!A12 -> Railroad Carriers
E9: Yield Equity Rate - DGM (Two-Stage)
E10: YEAR END 12/31/2025
B14: Ticker | C14: Industry | D14: Dividend Yield | E14: Projected Short Term | F14: Stable | G14: Average | H14: Cost of
A15: Company | B15: Symbol | C15: Group | E15: Earnings Per Share | F15: Growth | G15: Growth Rate | H15: Equity
E16: Growth Rate | G16: (G1 + g)/2 | H16: KE = (DY X (1 + .5(G))) + .67 (G1) + .33(g)
D17: DY | E17: G1 | F17: g | G17: G
D18: VL | E18: VL
A21: =+'S&D'!A22 -> Canadian National | B21: =+'S&D'!B22 -> CNI | C21: =+'S&D'!C22 -> Railroad | D21: =+'Dividends '!H16 -> 0.0287304 | E21: =+'Single Stage Div Growth Model'!H17 -> 0.07 | F21: =+'Growth & Inflation Rates'!F56 -> 0.0429 | G21: =(F21+E21)/2 -> 0.05645 | H21: =D21*(1+(0.5*G21))+(0.67*E21)+(0.33*F21) -> 0.090598315
A22: =+'S&D'!A23 -> Canadian Pacific Kansas City Limited CPKC | B22: =+'S&D'!B23 -> CP | C22: =+'S&D'!C23 -> Railroad | D22: =+'Dividends '!H17 -> 0.010186065 | E22: =+'Single Stage Div Growth Model'!H18 -> 0.1 | F22: =+F21 -> 0.0429 | G22: =(F22+E22)/2 -> 0.07145 | H22: =D22*(1+(0.5*G22))+(0.67*E22)+(0.33*F22) -> 0.091706963
A23: =+'S&D'!A24 -> CSX Corp | B23: =+'S&D'!B24 -> CSX | C23: =+'S&D'!C24 -> Railroad | D23: =+'Dividends '!H18 -> 0.017655172 | E23: =+'Single Stage Div Growth Model'!H19 -> 0.085 | F23: =+F21 -> 0.0429 | G23: =(F23+E23)/2 -> 0.06395 | H23: =D23*(1+(0.5*G23))+(0.67*E23)+(0.33*F23) -> 0.089326697
A24: =+'S&D'!A25 -> Norfolk Southern | B24: =+'S&D'!B25 -> NSC | C24: =+'S&D'!C25 -> Railroad | D24: =+'Dividends '!H19 -> 0.018703242 | E24: =+'Single Stage Div Growth Model'!H20 -> 0.085 | F24: =+F21 -> 0.0429 | G24: =(F24+E24)/2 -> 0.06395 | H24: =D24*(1+(0.5*G24))+(0.67*E24)+(0.33*F24) -> 0.090408278
A25: =+'S&D'!A26 -> Union Pacific Railroad | B25: =+'S&D'!B26 -> UNP | C25: =+'S&D'!C26 -> Railroad | D25: =+'Dividends '!H20 -> 0.025938094 | E25: =+'Single Stage Div Growth Model'!H21 -> 0.09 | F25: =+F21 -> 0.0429 | G25: =(F25+E25)/2 -> 0.06645 | H25: =D25*(1+(0.5*G25))+(0.67*E25)+(0.33*F25) -> 0.10125689
G26: High | H26: =MAX(H21:H25) -> 0.10125689
G27: Low | H27: =MIN(H21:H25) -> 0.089326697
G28: Median | H28: =MEDIAN(H21:H25) -> 0.090598315
G29: Mean | H29: =AVERAGE(H21:H25) -> 0.092659428
G32: Two-Stage DGM Rate > | H32: 0.0927
A36: KE = (DY X (1+ .5(G))) + .67(G1) + .33(g)
A38: KE = Cost of Equity
A39: DY = Dividend Yield See ValueLine
A40: G = Average growth rate
A41: G1 = Short term growth estimate
A42: g = Stable Growth - Nominal growth rate

Sheet Multiples
A1: KENTUCKY DEPARTMENT OF REVENUE
A2: DIVISION OF STATE VALUATION, PUBLIC SERVICE BRANCH
A3: 2026 Tax Year
A6: =+'S&D'!A12 -> Railroad Carriers
E8: GROSS REVENUE & GROSS BOOK (EQUITY) MULTIPLES
E9: YEAR END 12/31/2025
C11: Ticker | D11: Share | E11: Gross Revenues | F11: Gross Revenue | G11: Computed | H11: Gross Book Value Equity | I11: Gross Book Value Equity | J11: Computed
B12: Company | C12: Symbol | D12: Price | E12: Per Share | F12: Multiple * | G12: Inverse | H12: Per Share ** | I12: Multiple | J12: Inverse
D13: Year End | E13: VL Historic | H13: VL Historic
B16: =+'S&D'!A22 -> Canadian National | C16: =+'S&D'!B22 -> CNI | D16: =+'S&D'!G22 -> 98.85 | E16: 22.35 | F16: =D16/E16 -> 4.4228188 | G16: =1/F16 -> 0.22610015 | H16: 27.35 | I16: =D16/H16 -> 3.6142596 | J16: =1/I16 -> 0.27668184
B17: =+'S&D'!A23 -> Canadian Pacific Kansas City Limited CPKC | C17: =+'S&D'!B23 -> CP | D17: =+'S&D'!G23 -> 73.63 | E17: 13.85 | F17: =D17/E17 -> 5.3162455 | G17: =1/F17 -> 0.18810268 | H17: 40.6 | I17: =D17/H17 -> 1.8135468 | J17: =1/I17 -> 0.55140568
B18: =+'S&D'!A24 -> CSX Corp | C18: =+'S&D'!B24 -> CSX | D18: =+'S&D'!G24 -> 36.25 | E18: 8.15 | F18: =D18/E18 -> 4.4478528 | G18: =1/F18 -> 0.22482759 | H18: 7.5 | I18: =D18/H18 -> 4.8333333 | J18: =1/I18 -> 0.20689655
B19: =+'S&D'!A25 -> Norfolk Southern | C19: =+'S&D'!B25 -> NSC | D19: =+'S&D'!G25 -> 288.72 | E19: 55.8 | F19: =D19/E19 -> 5.1741935 | G19: =1/F19 -> 0.19326683 | H19: 76.55 | I19: =D19/H19 -> 3.7716525 | J19: =1/I19 -> 0.26513577
B20: =+'S&D'!A26 -> Union Pacific Railroad | C20: =+'S&D'!B26 -> UNP | D20: =+'S&D'!G26 -> 231.32 | E20: 43 | F20: =D20/E20 -> 5.3795349 | G20: =1/F20 -> 0.18588968 | H20: 37.95 | I20: =D20/H20 -> 6.0953887 | J20: =1/I20 -> 0.16405845
D22: High | E22: =MAX(E16:E20) -> 55.8 | F22: =MAX(F16:F20) -> 5.3795349 | G22: =MAX(G16:G20) -> 0.22610015 | H22: =MAX(H16:H20) -> 76.55 | I22: =MAX(I16:I20) -> 6.0953887 | J22: =MAX(J16:J20) -> 0.55140568
D23: Low | E23: =MIN(E16:E20) -> 8.15 | F23: =MIN(F16:F20) -> 4.4228188 | G23: =MIN(G16:G20) -> 0.18588968 | H23: =MIN(H16:H20) -> 7.5 | I23: =MIN(I16:I20) -> 1.8135468 | J23: =MIN(J16:J20) -> 0.16405845
D24: Median | E24: =MEDIAN(E16:E20) -> 22.35 | F24: =MEDIAN(F16:F20) -> 5.1741935 | G24: =MEDIAN(G16:G20) -> 0.19326683 | H24: =MEDIAN(H16:H20) -> 37.95 | I24: =MEDIAN(I16:I20) -> 3.7716525 | J24: =MEDIAN(J16:J20) -> 0.26513577
D25: Mean | E25: =AVERAGE(E16:E20) -> 28.63 | F25: =AVERAGE(F16:F20) -> 4.9481291 | G25: =AVERAGE(G16:G20) -> 0.20363738 | H25: =AVERAGE(H16:H20) -> 37.99 | I25: =AVERAGE(I16:I20) -> 4.0256362 | J25: =AVERAGE(J16:J20) -> 0.29283566
D29: SELECTED AVERAGE > | F29: 4.95 | I29: 4.03
A32: * This multiple is applicable to service type companies, or those with few assets. These companies sell at prices related to their revenues.
A33: The higher the return on revenue the higher the price to revenue will be.
A35: ** The book value, or common equity, per share is total owners' equity minus preferred stock divided by the number of common shares outstanding.
A36: The purpose of this ratio is to test whether the market price is worth more (or less) than the cost of the assets.
A37: If the result is greater than one(1), it indicates the market value exceeds book value and can often be used as a sign of competent management.

Sheet Info
